BEGIN:VCALENDAR
VERSION:2.0
PRODID:-//Fairhope Unitarian Fellowship - ECPv6.15.20//NONSGML v1.0//EN
CALSCALE:GREGORIAN
METHOD:PUBLISH
X-ORIGINAL-URL:https://fairhopeuu.org
X-WR-CALDESC:Events for Fairhope Unitarian Fellowship
REFRESH-INTERVAL;VALUE=DURATION:PT1H
X-Robots-Tag:noindex
X-PUBLISHED-TTL:PT1H
BEGIN:VTIMEZONE
TZID:America/Chicago
BEGIN:DAYLIGHT
TZOFFSETFROM:-0600
TZOFFSETTO:-0500
TZNAME:CDT
DTSTART:20250309T080000
END:DAYLIGHT
BEGIN:STANDARD
TZOFFSETFROM:-0500
TZOFFSETTO:-0600
TZNAME:CST
DTSTART:20251102T070000
END:STANDARD
BEGIN:DAYLIGHT
TZOFFSETFROM:-0600
TZOFFSETTO:-0500
TZNAME:CDT
DTSTART:20260308T080000
END:DAYLIGHT
BEGIN:STANDARD
TZOFFSETFROM:-0500
TZOFFSETTO:-0600
TZNAME:CST
DTSTART:20261101T070000
END:STANDARD
BEGIN:DAYLIGHT
TZOFFSETFROM:-0600
TZOFFSETTO:-0500
TZNAME:CDT
DTSTART:20270314T080000
END:DAYLIGHT
BEGIN:STANDARD
TZOFFSETFROM:-0500
TZOFFSETTO:-0600
TZNAME:CST
DTSTART:20271107T070000
END:STANDARD
END:VTIMEZONE
BEGIN:VEVENT
DTSTART;TZID=America/Chicago:20260503T110000
DTEND;TZID=America/Chicago:20260503T120000
DTSTAMP:20260419T170222
CREATED:20260419T170102Z
LAST-MODIFIED:20260419T171137Z
UID:2071-1777806000-1777809600@fairhopeuu.org
SUMMARY:Janet Fischer & Diane Zills\, LMSW
DESCRIPTION:Sacred Worth: Consent\, Respect\, and Responding to Sexual Assault \n\n\n\nWhen we say every person has inherent worth and dignity\, we commit ourselves to protecting that worth\, in ourselves\, in our partners\, in our communities. Consent is how we honor that commitment. Preventing sexual assault is how we defend it. And supporting survivors is how we restore it. \n\n\n\nThe Mission of the Lighthouse is the elimination of Domestic Violence and Sexual Assault through education\, intervention\, services and collaboration with the community.
URL:https://fairhopeuu.org/event/2026-05-03/
LOCATION:AL
CATEGORIES:FUF Events,Weekly Speakers
ATTACH;FMTTYPE=image/jpeg:https://fairhopeuu.org/wp-content/uploads/2026/04/2026-05-03_Lighthouse-e1776618307610.jpg
END:VEVENT
BEGIN:VEVENT
DTSTART;TZID=America/Chicago:20260510T110000
DTEND;TZID=America/Chicago:20260510T120000
DTSTAMP:20260419T170222
CREATED:20260419T170311Z
LAST-MODIFIED:20260419T170312Z
UID:2074-1778410800-1778414400@fairhopeuu.org
SUMMARY:Lella Lowe
DESCRIPTION:Exploring a Faith-Based Response to Climate Migration \n\n\n\nThe global surge in migration over the past decades\, often linked to climate change\, is now frequently in the news and has spurred a new era of hard-right politics in wealthier countries\, including the United States. According to Colette Pichon Battle\, a New Orleans-based climate justice strategist and lawyer\, “We must start preparing for global migration today. It’s a reality now. Our cities and our communities are not prepared.” \n\n\n\nJoin Lella Lowe\, long-time environmental champion\, as she sets the stage for what we are facing and invites conversation about the role of faith communities in preparing for climate-linked mobility and our call to compassion and solidarity with the poor and the stranger. \n\n\n\nLella Lowe is a long-time climate justice champion\, involved for many years in creation care programming at her church and in her Episcopal diocese. She has obtained climate justice certifications from the EPA\, Climate Reality and Blessed Tomorrow\, and is a member of the Mobile Environmental Justice Action Coalition\, Gulf Coast Creation Care\, and Mobile Bay Sierra Club. Lella has been rattling creation justice cages at Episcopal Church of the Redeemer in Mobile for nearly 40 years.
URL:https://fairhopeuu.org/event/2026-05-10/
LOCATION:AL
CATEGORIES:FUF Events,Weekly Speakers
ATTACH;FMTTYPE=image/jpeg:https://fairhopeuu.org/wp-content/uploads/2026/04/2026-05-10_Lella-Lowe-e1776618167771.jpg
END:VEVENT
BEGIN:VEVENT
DTSTART;TZID=America/Chicago:20260517T110000
DTEND;TZID=America/Chicago:20260517T120000
DTSTAMP:20260419T170222
CREATED:20260419T172429Z
LAST-MODIFIED:20260419T172432Z
UID:2078-1779015600-1779019200@fairhopeuu.org
SUMMARY:Kelly Childress
DESCRIPTION:Council on Aging \n\n\n\nKelly will discuss resources available in Baldwin County for the aging population. The Council on Aging’s mission is to serve as an advocate for Baldwin County seniors. To educate and enlist the support of all levels of government\, service agencies and private organizations that can assist with securing resources and implementing programs. The Council on Aging is dedicated to preserving dignity\, independence\, and peace of mind for the elderly citizens of Baldwin County. \n\n\n\nBorn and raised in Baldwin County\, Kelly has been employed with the Council on Aging for 26 years.
URL:https://fairhopeuu.org/event/2026-05-17/
LOCATION:AL
CATEGORIES:FUF Events,Weekly Speakers
ATTACH;FMTTYPE=image/jpeg:https://fairhopeuu.org/wp-content/uploads/2026/04/pexels-chris-f-38966-33525563-scaled-e1776619436207.jpg
END:VEVENT
END:VCALENDAR