BEGIN:VCALENDAR
VERSION:2.0
PRODID:-//Fairhope Unitarian Fellowship - ECPv6.15.20//NONSGML v1.0//EN
CALSCALE:GREGORIAN
METHOD:PUBLISH
X-ORIGINAL-URL:https://fairhopeuu.org
X-WR-CALDESC:Events for Fairhope Unitarian Fellowship
REFRESH-INTERVAL;VALUE=DURATION:PT1H
X-Robots-Tag:noindex
X-PUBLISHED-TTL:PT1H
BEGIN:VTIMEZONE
TZID:America/Chicago
BEGIN:DAYLIGHT
TZOFFSETFROM:-0600
TZOFFSETTO:-0500
TZNAME:CDT
DTSTART:20250309T080000
END:DAYLIGHT
BEGIN:STANDARD
TZOFFSETFROM:-0500
TZOFFSETTO:-0600
TZNAME:CST
DTSTART:20251102T070000
END:STANDARD
BEGIN:DAYLIGHT
TZOFFSETFROM:-0600
TZOFFSETTO:-0500
TZNAME:CDT
DTSTART:20260308T080000
END:DAYLIGHT
BEGIN:STANDARD
TZOFFSETFROM:-0500
TZOFFSETTO:-0600
TZNAME:CST
DTSTART:20261101T070000
END:STANDARD
BEGIN:DAYLIGHT
TZOFFSETFROM:-0600
TZOFFSETTO:-0500
TZNAME:CDT
DTSTART:20270314T080000
END:DAYLIGHT
BEGIN:STANDARD
TZOFFSETFROM:-0500
TZOFFSETTO:-0600
TZNAME:CST
DTSTART:20271107T070000
END:STANDARD
END:VTIMEZONE
BEGIN:VEVENT
DTSTART;TZID=America/Chicago:20260329T110000
DTEND;TZID=America/Chicago:20260329T120000
DTSTAMP:20260421T053807
CREATED:20260218T151935Z
LAST-MODIFIED:20260218T152012Z
UID:1942-1774782000-1774785600@fairhopeuu.org
SUMMARY:Jacqueline Allen Trimble
DESCRIPTION:Why Poetry Matters in an Unjust World \n\n\n\nEven though empathy has been said to be detrimental\, it is in fact what makes us human\, bends the arc of the universe toward justice\, champions equity\, and encourages our compassion for each other. Poetry has long been a reflection of that empathy. It is often our earliest interaction with language and teaches us what is required\, while challenging and calling out our baser impulses. Poetry matters in an unjust world. \n\n\n\nJacqueline Allen Trimble is the Poet Laureate of Alabama\, a National Endowment for the Arts Creative Writing Fellow (Poetry)\, a Cave Canem Fellow\, and a two-time Alabama State Council on the Arts Literary Fellow. Her poetry has appeared in numerous journals including POETRY\, The Louisville Review\, The Offing\, Salvation South and Poet Lore. Her work has been widely anthologized\, most notably in Kwame Alexander’s This is the Honey: An Anthology of Contemporary Black Poetry\, and has been featured by the Poetry Foundation’s Poem of the Day\, American Academy of Poets’ Poem-a Day\, and Poetry Daily.  \n\n\n\nAlso an essayist\, Trimble’s work has appeared in numerous collections. She also wrote for the South African television series Die Testament for two seasons. Published by NewSouth Books\, American Happiness\, her debut collection\, won the 2016 Balcones Poetry Prize\, and was recently re-released in paperback. Her newest collection\, How to Survive the Apocalypse\, was named one of the ten best poetry books of 2022 by the New York Public Library. Trimble is Professor of English and chairs the Department of Languages and Literatures at Alabama State University. 
URL:https://fairhopeuu.org/event/2026-03-29/
CATEGORIES:FUF Events,Weekly Speakers
ATTACH;FMTTYPE=image/jpeg:https://fairhopeuu.org/wp-content/uploads/2026/02/Jacqueline_Allen_Trimble.jpg
END:VEVENT
END:VCALENDAR