BEGIN:VCALENDAR
VERSION:2.0
PRODID:-//Fairhope Unitarian Fellowship - ECPv6.15.20//NONSGML v1.0//EN
CALSCALE:GREGORIAN
METHOD:PUBLISH
X-ORIGINAL-URL:https://fairhopeuu.org
X-WR-CALDESC:Events for Fairhope Unitarian Fellowship
REFRESH-INTERVAL;VALUE=DURATION:PT1H
X-Robots-Tag:noindex
X-PUBLISHED-TTL:PT1H
BEGIN:VTIMEZONE
TZID:America/Chicago
BEGIN:DAYLIGHT
TZOFFSETFROM:-0600
TZOFFSETTO:-0500
TZNAME:CDT
DTSTART:20250309T080000
END:DAYLIGHT
BEGIN:STANDARD
TZOFFSETFROM:-0500
TZOFFSETTO:-0600
TZNAME:CST
DTSTART:20251102T070000
END:STANDARD
BEGIN:DAYLIGHT
TZOFFSETFROM:-0600
TZOFFSETTO:-0500
TZNAME:CDT
DTSTART:20260308T080000
END:DAYLIGHT
BEGIN:STANDARD
TZOFFSETFROM:-0500
TZOFFSETTO:-0600
TZNAME:CST
DTSTART:20261101T070000
END:STANDARD
BEGIN:DAYLIGHT
TZOFFSETFROM:-0600
TZOFFSETTO:-0500
TZNAME:CDT
DTSTART:20270314T080000
END:DAYLIGHT
BEGIN:STANDARD
TZOFFSETFROM:-0500
TZOFFSETTO:-0600
TZNAME:CST
DTSTART:20271107T070000
END:STANDARD
END:VTIMEZONE
BEGIN:VEVENT
DTSTART;TZID=America/Chicago:20260315T110000
DTEND;TZID=America/Chicago:20260315T120000
DTSTAMP:20260421T070412
CREATED:20260218T151450Z
LAST-MODIFIED:20260223T170857Z
UID:1938-1773572400-1773576000@fairhopeuu.org
SUMMARY:Diane Thomas
DESCRIPTION:Ticking Time Bomb at Plant Barry \n\n\n\nOverview of the threat of 21 million tons of toxic coal ash next to the Mobile River in the Tensaw Delta and possible permanent pollution unless action is taken now.  \n\n\n\nBorn and raised in Little Rock\, Arkansas\, Diane received her PhD in Clinical Psychology in 1973 and practiced for 20 years. Some of her volunteer activities include Chairman of the City of Fairhope Personnel Board\, Read Aloud Baldwin\, and Coal Ash Action Group for the last three years. One of Diane’s most notable accomplishments was hiking on the Appalachian trail when she was 58. 
URL:https://fairhopeuu.org/event/2026-03-15/
CATEGORIES:FUF Events,Weekly Speakers
ATTACH;FMTTYPE=image/png:https://fairhopeuu.org/wp-content/uploads/2026/02/Diane_Thomas.png
END:VEVENT
END:VCALENDAR