BEGIN:VCALENDAR
VERSION:2.0
PRODID:-//Fairhope Unitarian Fellowship - ECPv6.15.20//NONSGML v1.0//EN
CALSCALE:GREGORIAN
METHOD:PUBLISH
X-WR-CALNAME:Fairhope Unitarian Fellowship
X-ORIGINAL-URL:https://fairhopeuu.org
X-WR-CALDESC:Events for Fairhope Unitarian Fellowship
REFRESH-INTERVAL;VALUE=DURATION:PT1H
X-Robots-Tag:noindex
X-PUBLISHED-TTL:PT1H
BEGIN:VTIMEZONE
TZID:America/Chicago
BEGIN:DAYLIGHT
TZOFFSETFROM:-0600
TZOFFSETTO:-0500
TZNAME:CDT
DTSTART:20250309T080000
END:DAYLIGHT
BEGIN:STANDARD
TZOFFSETFROM:-0500
TZOFFSETTO:-0600
TZNAME:CST
DTSTART:20251102T070000
END:STANDARD
BEGIN:DAYLIGHT
TZOFFSETFROM:-0600
TZOFFSETTO:-0500
TZNAME:CDT
DTSTART:20260308T080000
END:DAYLIGHT
BEGIN:STANDARD
TZOFFSETFROM:-0500
TZOFFSETTO:-0600
TZNAME:CST
DTSTART:20261101T070000
END:STANDARD
BEGIN:DAYLIGHT
TZOFFSETFROM:-0600
TZOFFSETTO:-0500
TZNAME:CDT
DTSTART:20270314T080000
END:DAYLIGHT
BEGIN:STANDARD
TZOFFSETFROM:-0500
TZOFFSETTO:-0600
TZNAME:CST
DTSTART:20271107T070000
END:STANDARD
END:VTIMEZONE
BEGIN:VEVENT
DTSTART;TZID=America/Chicago:20260118T110000
DTEND;TZID=America/Chicago:20260118T120000
DTSTAMP:20260421T095337
CREATED:20251221T175459Z
LAST-MODIFIED:20251221T181136Z
UID:1817-1768734000-1768737600@fairhopeuu.org
SUMMARY:Claire Helton
DESCRIPTION:Good Grief Without God: A Spiritually Inclusive Approach to Loss \n\n\n\nReligious folks often balk at the idea that anyone could make it through a loss without a faith to support them\, and yet people of all persuasions – spiritual\, secular\, and everywhere in between – cope successfully with loss every day. In this talk\, Claire will share her learnings as a hospice bereavement coordinator offering spiritually inclusive grief support in the Pensacola area\, with particular attention to the gap in community bereavement resources for non-religious or spiritually wounded grievers. \n\n\n\nClaire Helton is a hospice bereavement coordinator with a background in chaplaincy & congregational ministry\, and is a member of the Unitarian Universalist Church of Pensacola. She finds life in creating spaces for deep reflection\, community-building\, and personal transformation\, and puts that passion to use as a Mentor with OutoftheBox (www.outofthebox.org)\, a group dialogue tool she currently uses to facilitate her own spiritually inclusive grief support group called Mindful Grief\, which meets in Pensacola.
URL:https://fairhopeuu.org/event/2026-01-18/
CATEGORIES:FUF Events,Weekly Speakers
ATTACH;FMTTYPE=image/jpeg:https://fairhopeuu.org/wp-content/uploads/2025/12/2026-01-18_Helton_Claire-e1766340117300.jpg
END:VEVENT
END:VCALENDAR