BEGIN:VCALENDAR
VERSION:2.0
PRODID:-//Fairhope Unitarian Fellowship - ECPv6.15.20//NONSGML v1.0//EN
CALSCALE:GREGORIAN
METHOD:PUBLISH
X-ORIGINAL-URL:https://fairhopeuu.org
X-WR-CALDESC:Events for Fairhope Unitarian Fellowship
REFRESH-INTERVAL;VALUE=DURATION:PT1H
X-Robots-Tag:noindex
X-PUBLISHED-TTL:PT1H
BEGIN:VTIMEZONE
TZID:America/Chicago
BEGIN:DAYLIGHT
TZOFFSETFROM:-0600
TZOFFSETTO:-0500
TZNAME:CDT
DTSTART:20240310T080000
END:DAYLIGHT
BEGIN:STANDARD
TZOFFSETFROM:-0500
TZOFFSETTO:-0600
TZNAME:CST
DTSTART:20241103T070000
END:STANDARD
BEGIN:DAYLIGHT
TZOFFSETFROM:-0600
TZOFFSETTO:-0500
TZNAME:CDT
DTSTART:20250309T080000
END:DAYLIGHT
BEGIN:STANDARD
TZOFFSETFROM:-0500
TZOFFSETTO:-0600
TZNAME:CST
DTSTART:20251102T070000
END:STANDARD
BEGIN:DAYLIGHT
TZOFFSETFROM:-0600
TZOFFSETTO:-0500
TZNAME:CDT
DTSTART:20260308T080000
END:DAYLIGHT
BEGIN:STANDARD
TZOFFSETFROM:-0500
TZOFFSETTO:-0600
TZNAME:CST
DTSTART:20261101T070000
END:STANDARD
END:VTIMEZONE
BEGIN:VEVENT
DTSTART;TZID=America/Chicago:20250314T150000
DTEND;TZID=America/Chicago:20250314T180000
DTSTAMP:20260419T112948
CREATED:20250220T195121Z
LAST-MODIFIED:20250221T171517Z
UID:1192-1741964400-1741975200@fairhopeuu.org
SUMMARY:Pi Day
DESCRIPTION:Fairhope Unitarian Fellowship will be hosting their 4th Annual Pi Day on Friday\, March 14\, 2025. For all you non-math geeks\, Pi Day celebrates the mathematical constant π\, whose first three numbers are 3.14. But don’t worry. The only math involved is simple. \n\n\n\nJoin us from 3-6pm at 1150 Fairhope Ave\, Fairhope\, AL 36532. The price per slice of pie is $3\, which includes a coffee. With the purchase of a slice of pie\, you are also automatically entered into the raffle. Raffle winners each receive a specialty pie from Fairhope Chocolate Shop\, the Warehouse\, or another establishment. Raffle winners will be announced at 5:15pm.  You must be present to win.  All proceeds serve as a fundraiser and benefit the members of the Fairhope Unitarian Fellowship and its community. \n\n\n\nMember-donated pies include\, but are not limited to\, apple pie\, pecan pie\, pizza pie\, and cheesecake – which is not technically a pie\, but who doesn’t like cheesecake? And for $3 a slice\, it makes for a great Friday evening where adults can mix and mingle while children can play the various games available onsite. Whole pies will also be available for purchase. \n\n\n\nWhether you’re interested in dinner or dessert\, there is a pie for you. This event is for anyone who enjoys good food and engaging company.
URL:https://fairhopeuu.org/event/pi-day/
LOCATION:Fairhope Unitarian Fellowship\, 1150 Fairhope Ave.\, Fairhope\, AL\, 36532\, United States
ATTACH;FMTTYPE=image/png:https://fairhopeuu.org/wp-content/uploads/2025/02/Publication1.2.png
ORGANIZER;CN="Fairhope Unitarian Fellowship":MAILTO:Office@FairhopeUU.org
END:VEVENT
END:VCALENDAR