BEGIN:VCALENDAR
VERSION:2.0
PRODID:-//Fairhope Unitarian Fellowship - ECPv6.15.20//NONSGML v1.0//EN
CALSCALE:GREGORIAN
METHOD:PUBLISH
X-ORIGINAL-URL:https://fairhopeuu.org
X-WR-CALDESC:Events for Fairhope Unitarian Fellowship
REFRESH-INTERVAL;VALUE=DURATION:PT1H
X-Robots-Tag:noindex
X-PUBLISHED-TTL:PT1H
BEGIN:VTIMEZONE
TZID:America/Chicago
BEGIN:DAYLIGHT
TZOFFSETFROM:-0600
TZOFFSETTO:-0500
TZNAME:CDT
DTSTART:20230312T080000
END:DAYLIGHT
BEGIN:STANDARD
TZOFFSETFROM:-0500
TZOFFSETTO:-0600
TZNAME:CST
DTSTART:20231105T070000
END:STANDARD
BEGIN:DAYLIGHT
TZOFFSETFROM:-0600
TZOFFSETTO:-0500
TZNAME:CDT
DTSTART:20240310T080000
END:DAYLIGHT
BEGIN:STANDARD
TZOFFSETFROM:-0500
TZOFFSETTO:-0600
TZNAME:CST
DTSTART:20241103T070000
END:STANDARD
BEGIN:DAYLIGHT
TZOFFSETFROM:-0600
TZOFFSETTO:-0500
TZNAME:CDT
DTSTART:20250309T080000
END:DAYLIGHT
BEGIN:STANDARD
TZOFFSETFROM:-0500
TZOFFSETTO:-0600
TZNAME:CST
DTSTART:20251102T070000
END:STANDARD
END:VTIMEZONE
BEGIN:VEVENT
DTSTART;TZID=America/Chicago:20241222T110000
DTEND;TZID=America/Chicago:20241222T120000
DTSTAMP:20260424T075926
CREATED:20241204T153149Z
LAST-MODIFIED:20241207T192641Z
UID:958-1734865200-1734868800@fairhopeuu.org
SUMMARY:December 22: Holiday Stories
DESCRIPTION:Come share your favorite holiday story and hear new ones. Recount some memorable\, interesting\, or amusing tales from holidays past. No subject is off limits. Members and friends are requested to come armed with a tale to tell!
URL:https://fairhopeuu.org/event/december-22-holiday-stories/
LOCATION:Fairhope Unitarian Fellowship\, 1150 Fairhope Ave.\, Fairhope\, AL\, 36532\, United States
ATTACH;FMTTYPE=image/jpeg:https://fairhopeuu.org/wp-content/uploads/2024/12/Designer1.jpeg
ORGANIZER;CN="Fairhope Unitarian Fellowship":MAILTO:Office@FairhopeUU.org
END:VEVENT
END:VCALENDAR