BEGIN:VCALENDAR
VERSION:2.0
PRODID:-//Fairhope Unitarian Fellowship - ECPv6.15.20//NONSGML v1.0//EN
CALSCALE:GREGORIAN
METHOD:PUBLISH
X-WR-CALNAME:Fairhope Unitarian Fellowship
X-ORIGINAL-URL:https://fairhopeuu.org
X-WR-CALDESC:Events for Fairhope Unitarian Fellowship
REFRESH-INTERVAL;VALUE=DURATION:PT1H
X-Robots-Tag:noindex
X-PUBLISHED-TTL:PT1H
BEGIN:VTIMEZONE
TZID:America/Chicago
BEGIN:DAYLIGHT
TZOFFSETFROM:-0600
TZOFFSETTO:-0500
TZNAME:CDT
DTSTART:20230312T080000
END:DAYLIGHT
BEGIN:STANDARD
TZOFFSETFROM:-0500
TZOFFSETTO:-0600
TZNAME:CST
DTSTART:20231105T070000
END:STANDARD
BEGIN:DAYLIGHT
TZOFFSETFROM:-0600
TZOFFSETTO:-0500
TZNAME:CDT
DTSTART:20240310T080000
END:DAYLIGHT
BEGIN:STANDARD
TZOFFSETFROM:-0500
TZOFFSETTO:-0600
TZNAME:CST
DTSTART:20241103T070000
END:STANDARD
BEGIN:DAYLIGHT
TZOFFSETFROM:-0600
TZOFFSETTO:-0500
TZNAME:CDT
DTSTART:20250309T080000
END:DAYLIGHT
BEGIN:STANDARD
TZOFFSETFROM:-0500
TZOFFSETTO:-0600
TZNAME:CST
DTSTART:20251102T070000
END:STANDARD
END:VTIMEZONE
BEGIN:VEVENT
DTSTART;TZID=America/Chicago:20241117T110000
DTEND;TZID=America/Chicago:20241117T120000
DTSTAMP:20260421T031253
CREATED:20241104T170938Z
LAST-MODIFIED:20241104T171123Z
UID:396-1731841200-1731844800@fairhopeuu.org
SUMMARY:November 17th: Ken Hudson
DESCRIPTION:Honest to God: Religion and Denial that Climate Change is Caused by Us \nData shows unequivocally that global warming is the result of human activity. The 2021 General Social Survey shows that a half of all Americans don’t accept that global warming is caused by us. The main causes of this appear to be fundamentalist Christian beliefs and a lack of scientific literacy in the United States. \nDr. Kenneth Hudson is Professor Sociology at the University of South Alabama. He holds degrees in religion\, psychology\, social work\, and sociology from Mobile College\, University of Louisville\, and University of North Carolina. The focus of his teaching and research is on poverty\, social stratification\, human inequality\, and research methods.
URL:https://fairhopeuu.org/event/november-17th-ken-hudson/
LOCATION:Fairhope Unitarian Fellowship\, 1150 Fairhope Ave.\, Fairhope\, AL\, 36532\, United States
ORGANIZER;CN="Fairhope Unitarian Fellowship":MAILTO:Office@FairhopeUU.org
END:VEVENT
END:VCALENDAR